BEGIN:VCALENDAR
VERSION:2.0
PRODID:-//Sanctuary - ECPv6.15.19//NONSGML v1.0//EN
CALSCALE:GREGORIAN
METHOD:PUBLISH
X-WR-CALNAME:Sanctuary
X-ORIGINAL-URL:https://sanctuary-church.com
X-WR-CALDESC:Events for Sanctuary
REFRESH-INTERVAL;VALUE=DURATION:PT1H
X-Robots-Tag:noindex
X-PUBLISHED-TTL:PT1H
BEGIN:VTIMEZONE
TZID:America/Detroit
BEGIN:DAYLIGHT
TZOFFSETFROM:-0500
TZOFFSETTO:-0400
TZNAME:EDT
DTSTART:20240310T070000
END:DAYLIGHT
BEGIN:STANDARD
TZOFFSETFROM:-0400
TZOFFSETTO:-0500
TZNAME:EST
DTSTART:20241103T060000
END:STANDARD
BEGIN:DAYLIGHT
TZOFFSETFROM:-0500
TZOFFSETTO:-0400
TZNAME:EDT
DTSTART:20250309T070000
END:DAYLIGHT
BEGIN:STANDARD
TZOFFSETFROM:-0400
TZOFFSETTO:-0500
TZNAME:EST
DTSTART:20251102T060000
END:STANDARD
BEGIN:DAYLIGHT
TZOFFSETFROM:-0500
TZOFFSETTO:-0400
TZNAME:EDT
DTSTART:20260308T070000
END:DAYLIGHT
BEGIN:STANDARD
TZOFFSETFROM:-0400
TZOFFSETTO:-0500
TZNAME:EST
DTSTART:20261101T060000
END:STANDARD
END:VTIMEZONE
BEGIN:VEVENT
DTSTART;TZID=America/Detroit:20250608T103000
DTEND;TZID=America/Detroit:20250608T113000
DTSTAMP:20260421T053834
CREATED:20200413T173554Z
LAST-MODIFIED:20200413T173554Z
UID:7587-1749378600-1749382200@sanctuary-church.com
SUMMARY:Worship Service
DESCRIPTION:In-person worship gatherings have resumed at 10:30am every Sunday in our traditional\, beautiful sanctuary. Our services\, groups\, and missions are open to all. Please enter from the main doors on Willits St. We are thrilled to have everyone back worshipping in person and can’t wait to see you!
URL:https://sanctuary-church.com/event/worship-service/2025-06-08/
LOCATION:Sanctuary Church\, 300 Willits St\, Birmingham\, MI\, 48009\, United States
ATTACH;FMTTYPE=image/jpeg:https://sanctuary-church.com/wp-content/uploads/2020/04/Worship-Pic-scaled.jpeg
END:VEVENT
BEGIN:VEVENT
DTSTART;TZID=America/Detroit:20250608T113000
DTEND;TZID=America/Detroit:20250608T123000
DTSTAMP:20260421T053834
CREATED:20250505T161500Z
LAST-MODIFIED:20250505T161500Z
UID:8388-1749382200-1749385800@sanctuary-church.com
SUMMARY:Congregational Meeting
DESCRIPTION:Good things are happening through Sanctuary and we want to take some time to come together and recognize all of the good work. Join us Sunday June 8th immediately after worship for a Congregational information sharing meeting in the Parlor.
URL:https://sanctuary-church.com/event/congregational-meeting-3/
LOCATION:The Parlor\, 300 Willits St\, Birmingham\, MI\, 48009\, United States
ATTACH;FMTTYPE=image/jpeg:https://sanctuary-church.com/wp-content/uploads/2020/04/people-2569234_1280.jpg
END:VEVENT
BEGIN:VEVENT
DTSTART;TZID=America/Detroit:20250612T100000
DTEND;TZID=America/Detroit:20250612T110000
DTSTAMP:20260421T053834
CREATED:20210127T003809Z
LAST-MODIFIED:20251212T180543Z
UID:7589-1749722400-1749726000@sanctuary-church.com
SUMMARY:Sanctuary Sisters
DESCRIPTION:This weekly group offers support\, friendship\, and ministry opportunities with a primary focus on serving women and girls locally and globally. They meet on Zoom at 10am every Thursday.
URL:https://sanctuary-church.com/event/sanctuary-sisters/2025-06-12/
LOCATION:MI
ATTACH;FMTTYPE=image/jpeg:https://sanctuary-church.com/wp-content/uploads/2021/01/Sanctuary-Sisters-Photo-scaled.jpg
END:VEVENT
END:VCALENDAR