BEGIN:VCALENDAR
VERSION:2.0
PRODID:-//Sanctuary - ECPv6.15.19//NONSGML v1.0//EN
CALSCALE:GREGORIAN
METHOD:PUBLISH
X-ORIGINAL-URL:https://sanctuary-church.com
X-WR-CALDESC:Events for Sanctuary
REFRESH-INTERVAL;VALUE=DURATION:PT1H
X-Robots-Tag:noindex
X-PUBLISHED-TTL:PT1H
BEGIN:VTIMEZONE
TZID:America/Detroit
BEGIN:DAYLIGHT
TZOFFSETFROM:-0500
TZOFFSETTO:-0400
TZNAME:EDT
DTSTART:20240310T070000
END:DAYLIGHT
BEGIN:STANDARD
TZOFFSETFROM:-0400
TZOFFSETTO:-0500
TZNAME:EST
DTSTART:20241103T060000
END:STANDARD
BEGIN:DAYLIGHT
TZOFFSETFROM:-0500
TZOFFSETTO:-0400
TZNAME:EDT
DTSTART:20250309T070000
END:DAYLIGHT
BEGIN:STANDARD
TZOFFSETFROM:-0400
TZOFFSETTO:-0500
TZNAME:EST
DTSTART:20251102T060000
END:STANDARD
BEGIN:DAYLIGHT
TZOFFSETFROM:-0500
TZOFFSETTO:-0400
TZNAME:EDT
DTSTART:20260308T070000
END:DAYLIGHT
BEGIN:STANDARD
TZOFFSETFROM:-0400
TZOFFSETTO:-0500
TZNAME:EST
DTSTART:20261101T060000
END:STANDARD
END:VTIMEZONE
BEGIN:VEVENT
DTSTART;TZID=America/Detroit:20250525T103000
DTEND;TZID=America/Detroit:20250525T113000
DTSTAMP:20260419T083259
CREATED:20200413T173554Z
LAST-MODIFIED:20200413T173554Z
UID:7575-1748169000-1748172600@sanctuary-church.com
SUMMARY:Worship Service
DESCRIPTION:In-person worship gatherings have resumed at 10:30am every Sunday in our traditional\, beautiful sanctuary. Our services\, groups\, and missions are open to all. Please enter from the main doors on Willits St. We are thrilled to have everyone back worshipping in person and can’t wait to see you!
URL:https://sanctuary-church.com/event/worship-service/2025-05-25/
LOCATION:Sanctuary Church\, 300 Willits St\, Birmingham\, MI\, 48009\, United States
ATTACH;FMTTYPE=image/jpeg:https://sanctuary-church.com/wp-content/uploads/2020/04/Worship-Pic-scaled.jpeg
END:VEVENT
BEGIN:VEVENT
DTSTART;TZID=America/Detroit:20250529T100000
DTEND;TZID=America/Detroit:20250529T110000
DTSTAMP:20260419T083259
CREATED:20210127T003809Z
LAST-MODIFIED:20251212T180542Z
UID:7578-1748512800-1748516400@sanctuary-church.com
SUMMARY:Sanctuary Sisters
DESCRIPTION:This weekly group offers support\, friendship\, and ministry opportunities with a primary focus on serving women and girls locally and globally. They meet on Zoom at 10am every Thursday.
URL:https://sanctuary-church.com/event/sanctuary-sisters/2025-05-29/
LOCATION:MI
ATTACH;FMTTYPE=image/jpeg:https://sanctuary-church.com/wp-content/uploads/2021/01/Sanctuary-Sisters-Photo-scaled.jpg
END:VEVENT
END:VCALENDAR