BEGIN:VCALENDAR
VERSION:2.0
PRODID:-//Sanctuary - ECPv6.15.19//NONSGML v1.0//EN
CALSCALE:GREGORIAN
METHOD:PUBLISH
X-WR-CALNAME:Sanctuary
X-ORIGINAL-URL:https://sanctuary-church.com
X-WR-CALDESC:Events for Sanctuary
REFRESH-INTERVAL;VALUE=DURATION:PT1H
X-Robots-Tag:noindex
X-PUBLISHED-TTL:PT1H
BEGIN:VTIMEZONE
TZID:America/Detroit
BEGIN:DAYLIGHT
TZOFFSETFROM:-0500
TZOFFSETTO:-0400
TZNAME:EDT
DTSTART:20220313T070000
END:DAYLIGHT
BEGIN:STANDARD
TZOFFSETFROM:-0400
TZOFFSETTO:-0500
TZNAME:EST
DTSTART:20221106T060000
END:STANDARD
BEGIN:DAYLIGHT
TZOFFSETFROM:-0500
TZOFFSETTO:-0400
TZNAME:EDT
DTSTART:20230312T070000
END:DAYLIGHT
BEGIN:STANDARD
TZOFFSETFROM:-0400
TZOFFSETTO:-0500
TZNAME:EST
DTSTART:20231105T060000
END:STANDARD
BEGIN:DAYLIGHT
TZOFFSETFROM:-0500
TZOFFSETTO:-0400
TZNAME:EDT
DTSTART:20240310T070000
END:DAYLIGHT
BEGIN:STANDARD
TZOFFSETFROM:-0400
TZOFFSETTO:-0500
TZNAME:EST
DTSTART:20241103T060000
END:STANDARD
BEGIN:DAYLIGHT
TZOFFSETFROM:-0500
TZOFFSETTO:-0400
TZNAME:EDT
DTSTART:20250309T070000
END:DAYLIGHT
BEGIN:STANDARD
TZOFFSETFROM:-0400
TZOFFSETTO:-0500
TZNAME:EST
DTSTART:20251102T060000
END:STANDARD
END:VTIMEZONE
BEGIN:VEVENT
DTSTART;TZID=America/Detroit:20240430T100000
DTEND;TZID=America/Detroit:20240430T110000
DTSTAMP:20260424T062610
CREATED:20230901T172400Z
LAST-MODIFIED:20230901T172400Z
UID:7823-1714471200-1714474800@sanctuary-church.com
SUMMARY:Bible Study
DESCRIPTION:After a summer hiatus\, the Tuesday morning Bible Study will resume Tuesday\, September 12\, at 10:00 am in the Parlor. This fall’s focus will be on the Pentateuch\, the first five books of the Old Testament. For some\, this may be the first time they have studied the Old Testament and for others this will be more familiar. All are welcome! The first class will be 90 minutes and the remainder will be 60 minutes in length. If you would like to prepare\, read Genesis 1-3. Joan Trusty will be teaching.
URL:https://sanctuary-church.com/event/bible-study-2/2024-04-30/
LOCATION:The Parlor\, 300 Willits St\, Birmingham\, MI\, 48009\, United States
ATTACH;FMTTYPE=image/jpeg:https://sanctuary-church.com/wp-content/uploads/2023/09/pexels-lisa-fotios-1750566.jpeg
END:VEVENT
BEGIN:VEVENT
DTSTART;TZID=America/Detroit:20240423T100000
DTEND;TZID=America/Detroit:20240423T110000
DTSTAMP:20260424T062610
CREATED:20230901T172400Z
LAST-MODIFIED:20230901T172400Z
UID:7822-1713866400-1713870000@sanctuary-church.com
SUMMARY:Bible Study
DESCRIPTION:After a summer hiatus\, the Tuesday morning Bible Study will resume Tuesday\, September 12\, at 10:00 am in the Parlor. This fall’s focus will be on the Pentateuch\, the first five books of the Old Testament. For some\, this may be the first time they have studied the Old Testament and for others this will be more familiar. All are welcome! The first class will be 90 minutes and the remainder will be 60 minutes in length. If you would like to prepare\, read Genesis 1-3. Joan Trusty will be teaching.
URL:https://sanctuary-church.com/event/bible-study-2/2024-04-23/
LOCATION:The Parlor\, 300 Willits St\, Birmingham\, MI\, 48009\, United States
ATTACH;FMTTYPE=image/jpeg:https://sanctuary-church.com/wp-content/uploads/2023/09/pexels-lisa-fotios-1750566.jpeg
END:VEVENT
BEGIN:VEVENT
DTSTART;TZID=America/Detroit:20230912T100000
DTEND;TZID=America/Detroit:20230912T110000
DTSTAMP:20260424T062610
CREATED:20230901T172400Z
LAST-MODIFIED:20240504T012011Z
UID:7643-1694512800-1694516400@sanctuary-church.com
SUMMARY:Bible Study
DESCRIPTION:After a summer hiatus\, the Tuesday morning Bible Study will resume Tuesday\, September 12\, at 10:00 am in the Parlor. This fall’s focus will be on the Pentateuch\, the first five books of the Old Testament. For some\, this may be the first time they have studied the Old Testament and for others this will be more familiar. All are welcome! The first class will be 90 minutes and the remainder will be 60 minutes in length. If you would like to prepare\, read Genesis 1-3. Joan Trusty will be teaching.
URL:https://sanctuary-church.com/event/bible-study-2/2023-09-12/
LOCATION:The Parlor\, 300 Willits St\, Birmingham\, MI\, 48009\, United States
ATTACH;FMTTYPE=image/jpeg:https://sanctuary-church.com/wp-content/uploads/2023/09/pexels-lisa-fotios-1750566.jpeg
END:VEVENT
END:VCALENDAR